BEGIN:VCALENDAR
VERSION:2.0
PRODID:-//A4 Spectacle Vivant - ECPv6.15.20//NONSGML v1.0//EN
CALSCALE:GREGORIAN
METHOD:PUBLISH
X-WR-CALNAME:A4 Spectacle Vivant
X-ORIGINAL-URL:https://www.spectaclevivanta4.fr
X-WR-CALDESC:Évènements pour A4 Spectacle Vivant
REFRESH-INTERVAL;VALUE=DURATION:PT1H
X-Robots-Tag:noindex
X-PUBLISHED-TTL:PT1H
BEGIN:VTIMEZONE
TZID:Europe/Paris
BEGIN:DAYLIGHT
TZOFFSETFROM:+0100
TZOFFSETTO:+0200
TZNAME:CEST
DTSTART:20250330T010000
END:DAYLIGHT
BEGIN:STANDARD
TZOFFSETFROM:+0200
TZOFFSETTO:+0100
TZNAME:CET
DTSTART:20251026T010000
END:STANDARD
BEGIN:DAYLIGHT
TZOFFSETFROM:+0100
TZOFFSETTO:+0200
TZNAME:CEST
DTSTART:20260329T010000
END:DAYLIGHT
BEGIN:STANDARD
TZOFFSETFROM:+0200
TZOFFSETTO:+0100
TZNAME:CET
DTSTART:20261025T010000
END:STANDARD
BEGIN:DAYLIGHT
TZOFFSETFROM:+0100
TZOFFSETTO:+0200
TZNAME:CEST
DTSTART:20270328T010000
END:DAYLIGHT
BEGIN:STANDARD
TZOFFSETFROM:+0200
TZOFFSETTO:+0100
TZNAME:CET
DTSTART:20271031T010000
END:STANDARD
END:VTIMEZONE
BEGIN:VEVENT
DTSTART;TZID=Europe/Paris:20260523T200000
DTEND;TZID=Europe/Paris:20260523T212000
DTSTAMP:20260424T023142
CREATED:20250721T102714Z
LAST-MODIFIED:20250801T084446Z
UID:3505-1779566400-1779571200@www.spectaclevivanta4.fr
SUMMARY:23 mai – 20h – LE CABARET RENVERSÉ – La faux Populaire / le Mort aux Dents
DESCRIPTION:SAMEDI 23 MAI 2026 – 20hSous chapiteau – Aulnay \n\n\n\nCirque \n\n\n\n\n\n\n\n\n\n\n\n\n\n\n\n\n\n\n\n\n\nÀ la manière d’un cabaret\, la Faux Populaire vous invite sous son chapiteau\, pour s’amuser à éclairer la dualité permanente du désormais fameux « vivre ensemble »\, mais en couple ! En questionnant à travers la forme classique du cabaret les notions de modèle\, d’héritage\, de contexte social\, et en tentant de renverser ou d’entrechoquer les codes\, de manière joyeuse\, ludique et sensible. Entre les deux protagonistes et quelques convives\, la rencontre et le partage se dessinent autour de vins à déguster\, de numéros de jonglerie\, de manipulations cristallines en tous genres\, d’acrobaties vélocipédiques\, de dressage\, de magie\, de conflits balistiques en tout genre et bien d’autres surprises encore\, pour nous parler de cet étrange besoin d’être en couple. Et pour peupler un univers\, quoi de mieux que d’être deux ? \n\n\n\nLien\n\n\n\nDistribution :Sur une idée de : Julien Candy et Juliette ChristmannÉcriture\, mise en scène\, scénographie : Julien CandyInterprétation : Juliette Christmann\, Julien Candy\, Lady et des convivesAccompagnement mise en scène : Christian LucasConstruction : Pierrick Stéphant\, Julien CandyCréation lumière : Matthieu Cormier\, Julien Candy\, Tom Couillerot.Régie technique : Djebrine Bolze – CherifiRégie lumière : Antoine MagdziarzConseil scénographie : Pierrick StéphantCostumes : Sylvia KissContribution : Guy Perilhou \n\n\n\nDurée : 1h20 – à partir de 6 ansRéservation : 05 46 59 41 56 –  www.spectaclevivanta4.fr – Tarif CHelloAsso : https://www.helloasso.com/associations/a4/evenements/le-cabaret-renverse-samedi-23-mai-2026 \n\n\n\nMentions légales :Coproduction et accueil en résidence CREAC – La cité Cirque de Bègles (33)\, Le CRABB Biscarrosse (40)\, Le Champ de Foire Saint André de Cubzac (33)\, Théâtre Le Sillon – SC Clermont l’Hérault (34)\, Le Mémo lieu de fabrique artistique Maxéville (54)\, Communauté de communes de la Vallée de l’Hérault\, Ministère de la culture / DRAC Occitanie\, Conseil régional Occitanie\, Conseil départemental de l’HéraultCe projet est en partenariat avec La Coursive de La Rochelle
URL:https://www.spectaclevivanta4.fr/spectacle/23-mai-20h-le-cabaret-renverse-la-faux-populaire-le-mort-aux-dents
LOCATION:Chapiteau Aulnay\, Rue du Stade\, Aulnay\, 17470\, France
CATEGORIES:Chapiteau,Arts du Cirque,En famille,Aulnay
ATTACH;FMTTYPE=image/jpeg:https://www.spectaclevivanta4.fr/wp-content/uploads/2025/07/20230421_004-scaled.jpg
END:VEVENT
BEGIN:VEVENT
DTSTART;TZID=Europe/Paris:20260524T113000
DTEND;TZID=Europe/Paris:20260524T125000
DTSTAMP:20260424T023142
CREATED:20250721T102714Z
LAST-MODIFIED:20250801T084519Z
UID:3510-1779622200-1779627000@www.spectaclevivanta4.fr
SUMMARY:24 mai – 11h30 – LE CABARET RENVERSÉ – La Faux Populaire / Le Mort aux Dents
DESCRIPTION:DIMANCHE 24 MAI 2026 – 11h30Sous chapiteau – Aulnay \n\n\n\nCirque \n\n\n\n\n\n\n\n\n\n\n\n\n\n\n\n\n\n\n\n\n\nÀ la manière d’un cabaret\, la Faux Populaire vous invite sous son chapiteau\, pour s’amuser à éclairer la dualité permanente du désormais fameux « vivre ensemble »\, mais en couple ! En questionnant à travers la forme classique du cabaret les notions de modèle\, d’héritage\, de contexte social\, et en tentant de renverser ou d’entrechoquer les codes\, de manière joyeuse\, ludique et sensible. Entre les deux protagonistes et quelques convives\, la rencontre et le partage se dessinent autour de vins à déguster\, de numéros de jonglerie\, de manipulations cristallines en tous genres\, d’acrobaties vélocipédiques\, de dressage\, de magie\, de conflits balistiques en tout genre et bien d’autres surprises encore\, pour nous parler de cet étrange besoin d’être en couple. Et pour peupler un univers\, quoi de mieux que d’être deux ? \n\n\n\nLien\n\n\n\nDistribution :Sur une idée de : Julien Candy et Juliette ChristmannÉcriture\, mise en scène\, scénographie : Julien CandyInterprétation : Juliette Christmann\, Julien Candy\, Lady et des convivesAccompagnement mise en scène : Christian LucasConstruction : Pierrick Stéphant\, Julien CandyCréation lumière : Matthieu Cormier\, Julien Candy\, Tom Couillerot.Régie technique : Djebrine Bolze – CherifiRégie lumière : Antoine MagdziarzConseil scénographie : Pierrick StéphantCostumes : Sylvia KissContribution : Guy Perilhou \n\n\n\nDurée : 1h20 – à partir de 6 ansRéservation : 05 46 59 41 56 –  www.spectaclevivanta4.fr – Tarif CHelloAsso : https://www.helloasso.com/associations/a4/evenements/le-cabaret-renverse-dimanche-24-mai-2026  \n\n\n\nMentions légales :Coproduction et accueil en résidence CREAC – La cité Cirque de Bègles (33)\, Le CRABB Biscarrosse (40)\, Le Champ de Foire Saint André de Cubzac (33)\, Théâtre Le Sillon – SC Clermont l’Hérault (34)\, Le Mémo lieu de fabrique artistique Maxéville (54)\, Communauté de communes de la Vallée de l’Hérault\, Ministère de la culture / DRAC Occitanie\, Conseil régional Occitanie\, Conseil départemental de l’HéraultCe projet est en partenariat avec La Coursive de La Rochelle
URL:https://www.spectaclevivanta4.fr/spectacle/24-mai-11h30-le-cabaret-renverse-la-faux-populaire-le-mort-aux-dents
LOCATION:Chapiteau Aulnay\, Rue du Stade\, Aulnay\, 17470\, France
CATEGORIES:Chapiteau,Arts du Cirque,En famille,Aulnay
ATTACH;FMTTYPE=image/jpeg:https://www.spectaclevivanta4.fr/wp-content/uploads/2025/07/20230421_022-scaled.jpg
END:VEVENT
END:VCALENDAR