BEGIN:VCALENDAR
VERSION:2.0
PRODID:-//A4 Spectacle Vivant - ECPv6.15.20//NONSGML v1.0//EN
CALSCALE:GREGORIAN
METHOD:PUBLISH
X-WR-CALNAME:A4 Spectacle Vivant
X-ORIGINAL-URL:https://www.spectaclevivanta4.fr
X-WR-CALDESC:Évènements pour A4 Spectacle Vivant
REFRESH-INTERVAL;VALUE=DURATION:PT1H
X-Robots-Tag:noindex
X-PUBLISHED-TTL:PT1H
BEGIN:VTIMEZONE
TZID:Europe/Paris
BEGIN:DAYLIGHT
TZOFFSETFROM:+0100
TZOFFSETTO:+0200
TZNAME:CEST
DTSTART:20250330T010000
END:DAYLIGHT
BEGIN:STANDARD
TZOFFSETFROM:+0200
TZOFFSETTO:+0100
TZNAME:CET
DTSTART:20251026T010000
END:STANDARD
BEGIN:DAYLIGHT
TZOFFSETFROM:+0100
TZOFFSETTO:+0200
TZNAME:CEST
DTSTART:20260329T010000
END:DAYLIGHT
BEGIN:STANDARD
TZOFFSETFROM:+0200
TZOFFSETTO:+0100
TZNAME:CET
DTSTART:20261025T010000
END:STANDARD
BEGIN:DAYLIGHT
TZOFFSETFROM:+0100
TZOFFSETTO:+0200
TZNAME:CEST
DTSTART:20270328T010000
END:DAYLIGHT
BEGIN:STANDARD
TZOFFSETFROM:+0200
TZOFFSETTO:+0100
TZNAME:CET
DTSTART:20271031T010000
END:STANDARD
END:VTIMEZONE
BEGIN:VEVENT
DTSTART;TZID=Europe/Paris:20260320T190000
DTEND;TZID=Europe/Paris:20260320T193000
DTSTAMP:20260425T125648
CREATED:20250721T102715Z
LAST-MODIFIED:20260123T095519Z
UID:3470-1774033200-1774035000@www.spectaclevivanta4.fr
SUMMARY:[ANNULE] 18 au 21 mars : MON PÈRE DISAIT : AU RUGBY UNE PASSE EST UN CADEAU – Cie Florence Lavaud / Chantier Théâtre
DESCRIPTION:MERCREDI 18 MARS 2026 – 15h\, 17h\, 19hJEUDI 19 MARS 2026 – 19h30VENDREDI 20 MARS 2026 – 19hSAMEDI 21 MARS 2026 – 11h\, 16h\, 18h \n\n\n\nBistrot – Eden \n\n\n\nThéâtre \n\n\n\n\n\n\n\n\n\n\n\n\n\n\n\n\n\n\n\n\n\n\n\n\n\n\n\n\n\nÀ la fois premier pas au plateau et première écriture\, ce Portrait est le fruit d’une rencontre entre une metteure en scène et un rugbyman professionnel amateur au théâtre. Il invite à s’interroger sur la notion de collectif à travers le prisme du sport. Que signifie de nos jours « faire équipe » ou « jouer collectif » ? \n\n\n\nSur scène\, Jérémy Bertin nous raconte ses premiers pas dans le monde du rugby professionnel et l’exigence que cela requiert. L’amour du ballon ovale\, transmis de père en fils\, l’amènera aux sommets : l’équipe de France. \n\n\n\nThèmes : collectif\, dépassement de soi\, valeurs du sport\, héritage… \n\n\n\n www.cieflorencelavaud.com     \n\n\n\nDistribution :Mise en scène | Florence LavaudRegard extérieur à l’écriture | Éric des GaretsInterprétation | Jérémy Bertin \n\n\n\nDurée : 30 min + échanges – à partir de 13 ansRéservation : 05 46 59 41 56 –  www.spectaclevivanta4.fr – Tarif CHelloAsso :  https://www.helloasso.com/associations/a4/evenements/mon-pere-disait-au-rugby-une-passe-est-un-cadeau  \n\n\n\nMentions légales :Une production de la Cie Florence Lavaud avec le soutien de l’OARA (Bourse à l’écriture) \n\n\n\nEn coréalisation avec \n\n\n\n\n\n\n\nCe café est en partenariat avec Le RACA  \n\n\n\n\n\n\n\nLe Café de l’A4 se clôture par un repas partagé avec les artistes et techniciens\, où chacun apporte ce qu’il a préparé (soupe\, salade\, quiche\, clafoutis\, etc.) pour le partager avec les spectateurs\, les bénévoles\, les artistes et les partenaires. Instant convivial garanti…À vos recettes ! À vos couverts !
URL:https://www.spectaclevivanta4.fr/spectacle/18-au-21-mars-mon-pere-disait-au-rugby-une-passe-est-un-cadeau-cie-florence-lavaud-chantier-theatre
LOCATION:Bistrot – Eden\, 47 boulevard Joseph Lair\, Saint Jean d'Angély\, 17400\, France
CATEGORIES:Théâtre,Eden,Saint Jean d'Angély,Saison culturelle,Café de l'A4
ATTACH;FMTTYPE=image/jpeg:https://www.spectaclevivanta4.fr/wp-content/uploads/2025/07/Jeremy-Bertin_RUGBY@Charles-ZANG-2-scaled.jpg
END:VEVENT
END:VCALENDAR